BEGIN:VCALENDAR
VERSION:2.0
PRODID:-//LGBTQ+ Rolla - ECPv6.15.20//NONSGML v1.0//EN
CALSCALE:GREGORIAN
METHOD:PUBLISH
X-ORIGINAL-URL:https://lgbtqrolla.org
X-WR-CALDESC:Events for LGBTQ+ Rolla
REFRESH-INTERVAL;VALUE=DURATION:PT1H
X-Robots-Tag:noindex
X-PUBLISHED-TTL:PT1H
BEGIN:VTIMEZONE
TZID:America/Chicago
BEGIN:DAYLIGHT
TZOFFSETFROM:-0600
TZOFFSETTO:-0500
TZNAME:CDT
DTSTART:20240310T080000
END:DAYLIGHT
BEGIN:STANDARD
TZOFFSETFROM:-0500
TZOFFSETTO:-0600
TZNAME:CST
DTSTART:20241103T070000
END:STANDARD
BEGIN:DAYLIGHT
TZOFFSETFROM:-0600
TZOFFSETTO:-0500
TZNAME:CDT
DTSTART:20250309T080000
END:DAYLIGHT
BEGIN:STANDARD
TZOFFSETFROM:-0500
TZOFFSETTO:-0600
TZNAME:CST
DTSTART:20251102T070000
END:STANDARD
BEGIN:DAYLIGHT
TZOFFSETFROM:-0600
TZOFFSETTO:-0500
TZNAME:CDT
DTSTART:20260308T080000
END:DAYLIGHT
BEGIN:STANDARD
TZOFFSETFROM:-0500
TZOFFSETTO:-0600
TZNAME:CST
DTSTART:20261101T070000
END:STANDARD
END:VTIMEZONE
BEGIN:VEVENT
DTSTART;TZID=America/Chicago:20251021T170000
DTEND;TZID=America/Chicago:20251021T200000
DTSTAMP:20260423T053429
CREATED:20251001T203500Z
LAST-MODIFIED:20251001T203603Z
UID:10000659-1761066000-1761076800@lgbtqrolla.org
SUMMARY:LGBTQ+ Rolla Taco Tuesday Fundraiser at Pancheros
DESCRIPTION:Help support LGBTQ+ Rolla by enjoying some delicious food from Pancheros on Tuesday\, October 21st between 5-8pm 🌮 \n10% of ALL purchases (dine in\, delivery\, take out\, online orders\, and gift cards) will go towards the LGBTQ+ Rolla Center 🫶 \nBring some friends\, have food delivered\, or get a jump start on holiday shopping with gift cards! We appreciate your support 🏳️‍⚧️🏳️‍🌈 \n🗣️Please share and invite others!
URL:https://lgbtqrolla.org/event/lgbtq-rolla-taco-tuesday-fundraiser-at-pancheros/
LOCATION:Pancheros\, 1303 N Bishop\, Rolla\, MO\, 65401\, United States
ATTACH;FMTTYPE=image/jpeg:https://lgbtqrolla.org/wp-content/uploads/2025/10/Taco-Tuesday.jpg
END:VEVENT
END:VCALENDAR