BEGIN:VCALENDAR
VERSION:2.0
PRODID:-//LGBTQ+ Rolla - ECPv6.15.20//NONSGML v1.0//EN
CALSCALE:GREGORIAN
METHOD:PUBLISH
X-ORIGINAL-URL:https://lgbtqrolla.org
X-WR-CALDESC:Events for LGBTQ+ Rolla
REFRESH-INTERVAL;VALUE=DURATION:PT1H
X-Robots-Tag:noindex
X-PUBLISHED-TTL:PT1H
BEGIN:VTIMEZONE
TZID:America/Chicago
BEGIN:DAYLIGHT
TZOFFSETFROM:-0600
TZOFFSETTO:-0500
TZNAME:CDT
DTSTART:20240310T080000
END:DAYLIGHT
BEGIN:STANDARD
TZOFFSETFROM:-0500
TZOFFSETTO:-0600
TZNAME:CST
DTSTART:20241103T070000
END:STANDARD
BEGIN:DAYLIGHT
TZOFFSETFROM:-0600
TZOFFSETTO:-0500
TZNAME:CDT
DTSTART:20250309T080000
END:DAYLIGHT
BEGIN:STANDARD
TZOFFSETFROM:-0500
TZOFFSETTO:-0600
TZNAME:CST
DTSTART:20251102T070000
END:STANDARD
BEGIN:DAYLIGHT
TZOFFSETFROM:-0600
TZOFFSETTO:-0500
TZNAME:CDT
DTSTART:20260308T080000
END:DAYLIGHT
BEGIN:STANDARD
TZOFFSETFROM:-0500
TZOFFSETTO:-0600
TZNAME:CST
DTSTART:20261101T070000
END:STANDARD
END:VTIMEZONE
BEGIN:VEVENT
DTSTART;TZID=America/Chicago:20250823T170000
DTEND;TZID=America/Chicago:20250823T200000
DTSTAMP:20260422T052141
CREATED:20250822T165858Z
LAST-MODIFIED:20250822T165858Z
UID:10000327-1755968400-1755979200@lgbtqrolla.org
SUMMARY:LGBTQ+ Rolla Dungeons and Dragons (ages 16+)
DESCRIPTION:Join group members Nyx and Cassie for an evening of beginner friendly Dungeons and Dragons! This group is for anyone ages 16+ who is affirming of the LGBTQ+ community.\nGet in character\, learn the basics of the game\, and join the campaign\, Saturday August 23rd from 5-8pm – at our new Center 514 C Ft Wyman Road\, Rolla MO 65401.\nThings to consider bringing: Dice set Pencil or penNotebook Character ideas Snacks or soft drinks (no alcohol permitted)
URL:https://lgbtqrolla.org/event/lgbtq-rolla-dungeons-and-dragons-ages-16/
LOCATION:LGBTQ+ Rolla Center\, 514 Fort Wyman Rd Unit C\, Rolla\, MO\, 65401\, United States
ATTACH;FMTTYPE=image/jpeg:https://lgbtqrolla.org/wp-content/uploads/2025/08/DND.jpg
END:VEVENT
BEGIN:VEVENT
DTSTART;TZID=America/Chicago:20250826T180000
DTEND;TZID=America/Chicago:20250826T200000
DTSTAMP:20260422T052141
CREATED:20250821T173432Z
LAST-MODIFIED:20250821T173432Z
UID:10000027-1756231200-1756238400@lgbtqrolla.org
SUMMARY:LGBTQ+ Rolla Teen/Parent Game Night
DESCRIPTION:LGBTQ+ teens (and parents) are invited to join Youth Committee Leader Maggie for a fun game night! This will be recurring monthly\, on the Fourth Tuesday of each month – from 6-8pm at 514 C Ft Wyman Rd (LGBTQ+ Rolla Center).\nGames will be provided\, or you can bring your own favorite to play! Parents and teens will have the option to help brainstorm future activities.\nThis event is focused on teens – space will be available for parents\, younger siblings would need to be supervised\, and are welcome to bring their own personal activities
URL:https://lgbtqrolla.org/event/lgbtq-rolla-teen-parent-game-night/
LOCATION:LGBTQ+ Rolla Center\, 514 Fort Wyman Rd Unit C\, Rolla\, MO\, 65401\, United States
ATTACH;FMTTYPE=image/jpeg:https://lgbtqrolla.org/wp-content/uploads/2025/08/TeenParent.jpg
END:VEVENT
BEGIN:VEVENT
DTSTART;TZID=America/Chicago:20250829T173000
DTEND;TZID=America/Chicago:20250829T190000
DTSTAMP:20260422T052141
CREATED:20250822T170107Z
LAST-MODIFIED:20250822T170107Z
UID:10000328-1756488600-1756494000@lgbtqrolla.org
SUMMARY:LGBTQ+ Rolla at Bulldog Pride Night
DESCRIPTION:Stop by the LGBTQ+ Rolla booth at Bulldog Pride Night hosted by the Rolla Chamber of Commerce!\nThis is a community tailgate party and scholarship fundraiser located in the Rolla Highschool Parking Lot (900 Bulldog Run)\nFriday\, August 29\, 2025Tailgate: 5:30 PM – 7:00 PM\nFREE Hot Dogs & Soda provided\, and giveaways from local businesses and organizations including LGBTQ+ Rolla
URL:https://lgbtqrolla.org/event/lgbtq-rolla-at-bulldog-pride-night/
LOCATION:Rolla High School\, 900 Bulldog Run\, Rolla\, 65401\, United States
ATTACH;FMTTYPE=image/jpeg:https://lgbtqrolla.org/wp-content/uploads/2025/08/bulldog.jpg
END:VEVENT
BEGIN:VEVENT
DTSTART;TZID=America/Chicago:20250829T200000
DTEND;TZID=America/Chicago:20250829T230000
DTSTAMP:20260422T052141
CREATED:20250704T000639Z
LAST-MODIFIED:20250830T004114Z
UID:10000025-1756497600-1756508400@lgbtqrolla.org
SUMMARY:Springfield Slays Rolla Drag Show (18+)
DESCRIPTION:🎤💋 SPRINGFIELD SLAYS ROLLA 💋🎤🔥 A Drag Takeover You Won’t Forget 🔥 \n\nThe queens of Springfield are bringing the HEAT to Rolla! 💅 Join us for a night of wigs\, sass\, and pure unfiltered slayage at the VFW Post (15035 US 63) on Friday\, August 29th! \n👠 Doors Open: 8:00 PM👑 Show Starts: 9 PM🔞 18+ Only – IDs Required \n✨ This event is open to individuals age 18 and up — please be prepared to show ID at the door. Anyone of age who is accepting and affirming of the LGBTQ+ community is welcome to attend! \n🎟 Tickets: $10Get yours now at lgbtqrolla.org/events or at the door while they last! \n🍿 Snacks available for purchase🍸 Alcohol served at the bar – please consume responsibly💰 Food & drink proceeds benefit VFW Post \n💥 You’ve been warned: these queens don’t come to play—they come to SLAY. \n📍 VFW Post – 15035 US 63 Rolla\, MO🗓 Friday\, August 29 \nTag your crew. Grab your dollars. Let’s make it a night to remember! 💃💸 \n#SpringfieldSlaysRolla #DragShow #LGBTQRolla #DragTakeover #QueenThings #VFWPost
URL:https://lgbtqrolla.org/event/springfield-slays-rolla-drag-show-18/
LOCATION:Rolla VFW\, 15035 US-63\, Rolla\, MO\, 65401\, United States
ATTACH;FMTTYPE=image/png:https://lgbtqrolla.org/wp-content/uploads/2025/07/Screenshot-2025-07-11-at-11.31.31 AM.png
END:VEVENT
BEGIN:VEVENT
DTSTART;TZID=America/Chicago:20250831T140000
DTEND;TZID=America/Chicago:20250831T150000
DTSTAMP:20260422T052141
CREATED:20250822T170213Z
LAST-MODIFIED:20250830T175802Z
UID:10000329-1756648800-1756652400@lgbtqrolla.org
SUMMARY:*EVENT CANCELED* Get Married at LGBTQ+ Rolla
DESCRIPTION:*Event canceled due to lack of registrants*\nThinking about getting married? Why not tie the knot at LGBTQ+ Rolla? \nWe will have ordained individuals and witnesses on site\, ready to complete your marriage license (must be gathered in advance – how to obtain in Phelps County: https://www.phelpscounty.org/…/06/2020-Marriage-info.pdf) \nMarriage ceremony to be completed at 2pm\, Sunday August 31st at the LGBTQ+�Rolla Center (514 C Ft Wyman Rd) \nFree service provided by local community members \nAdvance registration required – please register here: https://forms.gle/MVZcdGX3stuNeBoz9
URL:https://lgbtqrolla.org/event/get-married-at-lgbtq-rolla/
LOCATION:LGBTQ+ Rolla Center\, 514 Fort Wyman Rd Unit C\, Rolla\, MO\, 65401\, United States
ATTACH;FMTTYPE=image/jpeg:https://lgbtqrolla.org/wp-content/uploads/2025/08/marriage.jpg
END:VEVENT
END:VCALENDAR