BEGIN:VCALENDAR
VERSION:2.0
PRODID:-//LGBTQ+ Rolla - ECPv6.15.20//NONSGML v1.0//EN
CALSCALE:GREGORIAN
METHOD:PUBLISH
X-ORIGINAL-URL:https://lgbtqrolla.org
X-WR-CALDESC:Events for LGBTQ+ Rolla
REFRESH-INTERVAL;VALUE=DURATION:PT1H
X-Robots-Tag:noindex
X-PUBLISHED-TTL:PT1H
BEGIN:VTIMEZONE
TZID:America/Chicago
BEGIN:DAYLIGHT
TZOFFSETFROM:-0600
TZOFFSETTO:-0500
TZNAME:CDT
DTSTART:20240310T080000
END:DAYLIGHT
BEGIN:STANDARD
TZOFFSETFROM:-0500
TZOFFSETTO:-0600
TZNAME:CST
DTSTART:20241103T070000
END:STANDARD
BEGIN:DAYLIGHT
TZOFFSETFROM:-0600
TZOFFSETTO:-0500
TZNAME:CDT
DTSTART:20250309T080000
END:DAYLIGHT
BEGIN:STANDARD
TZOFFSETFROM:-0500
TZOFFSETTO:-0600
TZNAME:CST
DTSTART:20251102T070000
END:STANDARD
BEGIN:DAYLIGHT
TZOFFSETFROM:-0600
TZOFFSETTO:-0500
TZNAME:CDT
DTSTART:20260308T080000
END:DAYLIGHT
BEGIN:STANDARD
TZOFFSETFROM:-0500
TZOFFSETTO:-0600
TZNAME:CST
DTSTART:20261101T070000
END:STANDARD
END:VTIMEZONE
BEGIN:VEVENT
DTSTART;TZID=America/Chicago:20250614T170000
DTEND;TZID=America/Chicago:20250614T200000
DTSTAMP:20260420T131154
CREATED:20250125T200320Z
LAST-MODIFIED:20250520T235638Z
UID:10000016-1749920400-1749931200@lgbtqrolla.org
SUMMARY:LGBTQ+ Rolla Pride 2025
DESCRIPTION:LGBTQ+ Rolla’s Annual Pride event is scheduled for June 14\, 2025\, at the downtown Rolla bandshell and festival lots (901 N. Elm Street)! Come enjoy a celebration of Affirming\, Supportive\, Visible Community – this event is free and open to all LGBTQ+ individuals and allies – you do not need to be a Rolla resident to attend\, and it is open to all ages. Come celebrate and affirm LGBTQ+ Pride!\n\nWe will have an educational guest\, live entertainment\, food trucks\, craft activities\, affirming freebies\, and community booths.\n\nAttendance is FREE! If you would like to set up a food truck or if you are an organization who would like to set up a community booth\, please purchase a ticket below to provide your information and help defray the cost of putting on a successful event. If you would like to volunteer\, please submit this form: https://bit.ly/RollaPride2025\n\nHelp Support Pride and the LGBTQ+ Rolla Center! Below are links to our two Facebook fundraiser campaigns:\nPride Fundraiser\nLGBTQ+ Rolla Center Fundraiser\nBecome a Recurring Donor with Ko-Fi\n\nGet Married at Pride! Thinking about getting married? Why not tie the knot at Pride? We will have ordained individuals and witnesses on site\, ready to complete your marriage license (must be gathered in advance – how to obtain in Phelps County: https://www.phelpscounty.org/wp-content/uploads/2020/06/2020-Marriage-info.pdf). Marriage ceremony to be completed at 6:30pm\, prior to the evening entertainment. Free service provided by local community members. Please register here: https://forms.gle/CnyCJLGXTktbqaL66
URL:https://lgbtqrolla.org/event/lgbtq-rolla-pride-2025/
LOCATION:Rolla Bandshell\, 901 N Elm Street\, Rolla\, MO\, 65401\, United States
CATEGORIES:Ticketed
ATTACH;FMTTYPE=image/png:https://lgbtqrolla.org/wp-content/uploads/2025/01/Pride-2025-Cover-Photo-.png
END:VEVENT
BEGIN:VEVENT
DTSTART;TZID=America/Chicago:20250625T170000
DTEND;TZID=America/Chicago:20250625T200000
DTSTAMP:20260420T131154
CREATED:20250618T175150Z
LAST-MODIFIED:20250618T175150Z
UID:10000022-1750870800-1750881600@lgbtqrolla.org
SUMMARY:Pints for Purpose
DESCRIPTION:Pints for Purpose – Every Pint Gives Back! \nJoin us for Pints for Purpose on June 25th from 5–8 PM at Public House Brewing Company in Rolla\, MO\, and raise a glass in support of LGBTQ+ Rolla!\n Date: June 25\, 2025 Time: 5:00 PM – 8:00 PM Public House Brewing Company\, Rolla\, MO\n Here’s what’s happening: $1 from every pint sold goes directly to support LGBTQ+ Rolla Silent Auction from 5–8 PM – bid on amazing items from local businesses and artists Great drinks\, good vibes\, and a welcoming community\nCome sip\, bid\, and support! Every pint and every bid helps us build a more inclusive\, affirming community right here in Rolla. \nBring your friends\, bring your pride\, and drink with purpose!
URL:https://lgbtqrolla.org/event/pints-for-purpose/
LOCATION:Rolla Public House\, 600 N Rolla St # C\, Rolla\, MO\, 65401\, United States
ATTACH;FMTTYPE=image/jpeg:https://lgbtqrolla.org/wp-content/uploads/2025/06/pints.jpg
END:VEVENT
BEGIN:VEVENT
DTSTART;TZID=America/Chicago:20250630T160000
DTEND;TZID=America/Chicago:20250630T180000
DTSTAMP:20260420T131154
CREATED:20250618T175523Z
LAST-MODIFIED:20250618T175523Z
UID:10000023-1751299200-1751306400@lgbtqrolla.org
SUMMARY:LGBTQ+ Rolla Center Grand Opening
DESCRIPTION:You’re invited! \nWe’re thrilled to announce the GRAND OPENING of the brand new LGBTQ+ Rolla Community Center! \n June 30 4–6 PM 514 Fort Wyman Rd. Unit C Rolla\, MO 65401\nJoin us at 4 PM for our official ribbon cutting  and help us celebrate this incredible new safe space built with love\, pride\, and community at its heart. \nCome see the space\, connect with others\, and be part of this exciting new chapter for LGBTQ+ folks in Rolla!
URL:https://lgbtqrolla.org/event/lgbtq-rolla-center-grand-opening/
LOCATION:LGBTQ+ Rolla Center\, 514 Fort Wyman Rd Unit C\, Rolla\, MO\, 65401\, United States
ATTACH;FMTTYPE=image/jpeg:https://lgbtqrolla.org/wp-content/uploads/2025/06/opening.jpg
END:VEVENT
END:VCALENDAR