BEGIN:VCALENDAR
VERSION:2.0
PRODID:-//LGBTQ+ Rolla - ECPv6.15.20//NONSGML v1.0//EN
CALSCALE:GREGORIAN
METHOD:PUBLISH
X-WR-CALNAME:LGBTQ+ Rolla
X-ORIGINAL-URL:https://lgbtqrolla.org
X-WR-CALDESC:Events for LGBTQ+ Rolla
REFRESH-INTERVAL;VALUE=DURATION:PT1H
X-Robots-Tag:noindex
X-PUBLISHED-TTL:PT1H
BEGIN:VTIMEZONE
TZID:America/Chicago
BEGIN:DAYLIGHT
TZOFFSETFROM:-0600
TZOFFSETTO:-0500
TZNAME:CDT
DTSTART:20230312T080000
END:DAYLIGHT
BEGIN:STANDARD
TZOFFSETFROM:-0500
TZOFFSETTO:-0600
TZNAME:CST
DTSTART:20231105T070000
END:STANDARD
BEGIN:DAYLIGHT
TZOFFSETFROM:-0600
TZOFFSETTO:-0500
TZNAME:CDT
DTSTART:20240310T080000
END:DAYLIGHT
BEGIN:STANDARD
TZOFFSETFROM:-0500
TZOFFSETTO:-0600
TZNAME:CST
DTSTART:20241103T070000
END:STANDARD
BEGIN:DAYLIGHT
TZOFFSETFROM:-0600
TZOFFSETTO:-0500
TZNAME:CDT
DTSTART:20250309T080000
END:DAYLIGHT
BEGIN:STANDARD
TZOFFSETFROM:-0500
TZOFFSETTO:-0600
TZNAME:CST
DTSTART:20251102T070000
END:STANDARD
END:VTIMEZONE
BEGIN:VEVENT
DTSTART;TZID=America/Chicago:20241103T110000
DTEND;TZID=America/Chicago:20241103T130000
DTSTAMP:20260424T080011
CREATED:20241008T192547Z
LAST-MODIFIED:20241008T192547Z
UID:10000010-1730631600-1730638800@lgbtqrolla.org
SUMMARY:LGBTQ+ Rolla Halloween Drag Brunch presented by Spectrum and the Society of Women Engineers
DESCRIPTION:Join LGBTQ+ Rolla\, Spectrum\, and the Society of Women Engineers (SWE) as they present a Halloween Drag Brunch! Sunday\, November 3rd from 11am-1pm – in the Atrium of the Innovation Lab on campus at Missouri S&T (located at 650 Tim Bradley Wy\, Rolla MO 65401) \nPerformances by UltraViolet\, Rocky B Goode\, Sativa Raye Frost\, Andrew Genius\, and Roxie M Valentine. \nTickets include hand pie and soft pretzel refreshments as supplies last. \nHalloween costumes encouraged! Please no costume masks\, and no imitation weapons. \nWe will also be hosting a non-perishable food drive for The Rolla Mission – consider bringing an item or two to donate to this wonderful community organization. \nThis event is open to campus and community members and is all ages (parental discretion suggested). There is an entry fee – tickets may be purchased in advance at lgbtqrolla.org or at the door as availability allows – seating is limited (advance ticket purchase guarantees seat availability – tickets at the door may be standing\, second floor\, or seated at a distance). \n***Please note that VIP is bleacher style seating with steps – general admission is flat/does not have stairs*** \nParking available for in campus lots for free\, or for a fee in parking garage.
URL:https://lgbtqrolla.org/event/halloween-drag-brunch/
LOCATION:Innovation Lab\, 650 Tim Bradley Wy\, Rolla\, MO\, 65401\, United States
CATEGORIES:Ticketed
ATTACH;FMTTYPE=image/png:https://lgbtqrolla.org/wp-content/uploads/2024/10/113-Halloween-Drag-Brunch-Banner.png
END:VEVENT
BEGIN:VEVENT
DTSTART;TZID=America/Chicago:20241116T180000
DTEND;TZID=America/Chicago:20241116T210000
DTSTAMP:20260424T080011
CREATED:20241101T201734Z
LAST-MODIFIED:20241101T201735Z
UID:10000012-1731780000-1731790800@lgbtqrolla.org
SUMMARY:LGBTQ+ Rolla Youth Committee GAYlactic GAYla Teen Dance - PRE-REGISTRATION REQUIRED
DESCRIPTION:Attention Teenagers: You are invited LGBTQ+ Rolla’s first TEEN DANCE!\nWho: Any Teenagers who are affirming of the LGBTQ+ CommunityWhere: The Centre\, 1200 Holloway St\, Rolla\, MOWhen: Saturday\, November 16th\, 6-9pm\nThis dance is for LGBTQ+ Teenagers\, their allies\, and plus ones. This means than ANY TEENAGER who is affirming of the LGBTQ+ community\, ages 13 to 19\, are invited. The dance will be chappelroaned by LGBTQ+ Rolla Board Members who are at least 4 years older than the eldest dance participant. The GAYlactic GAYla will take place upstairs at The Centre\, 1200 Holloway\, on Saturday\, November 16th from 6-9pm. Light refreshments will be provided. The teens are in charge of the playlist and expressive music connoting a queer ideology is welcomed. Parents and supporters are welcome to take pictures of the attendees as they arrive\, but we do ask that this event is honored as a safe space for teens to let their freak flag fly\, and no parents of teens in attendance will be at the dance. The dance is intended for teenagers who are able to be independent and make safe choices. That being said\, the chappelroans are not babysitters. They will be providing general supervision and be available for assistance throughout the event\, and in various locations in the building. Teens are expected to stay at the dance – but chappelroans will not restrict individuals who want to leave the event early. Please email Maggie VI Beedles\, LGBTQ+ Rolla Youth Chair and Dance Organizer at maggiebeedles@gmail.com with any questions or concerns. Thank you so much for registering so that we can ensure the dance is maintained as a safe space- please follow the link and register each dance participant individually- https://forms.gle/7XFvy2qzwLKxzY4B9. We are also accepting refreshment donations along a galactic theme- if you would be willing to prepare a dish for the dance\, please let us know! We are so excited host a social event specifically for queer youth and their allies- the future is now and the liberated young are DANCING! Let us rejoice and support them!
URL:https://lgbtqrolla.org/event/lgbtq-rolla-youth-committee-gaylactic-gayla-teen-dance/
LOCATION:The Centre\, 1200 Holloway St\, Rolla\, MO\, 65401\, United States
CATEGORIES:Free
ATTACH;FMTTYPE=image/jpeg:https://lgbtqrolla.org/wp-content/uploads/2024/11/Teen-Dance-Flyer.jpg
END:VEVENT
BEGIN:VEVENT
DTSTART;TZID=America/Chicago:20241120T180000
DTEND;TZID=America/Chicago:20241120T200000
DTSTAMP:20260424T080011
CREATED:20241024T134945Z
LAST-MODIFIED:20241024T151424Z
UID:10000011-1732125600-1732132800@lgbtqrolla.org
SUMMARY:Transgender Day of Remembrance
DESCRIPTION:Join LGBTQ+ Rolla for Transgender Day of Remembrance\, on Wednesday\, November 20th\, from 6-8pm. This event will be held at Common Grounds Community Garden\, at the end of S Pine St in Rolla\, and will consist of a bonfire\, a brief service\, and story sharing.
URL:https://lgbtqrolla.org/event/transgender-day-of-remembrance/
LOCATION:Common Grounds Comunity Garden\, 111 S Pine Street\, Rolla\, MO\, 65401\, United States
CATEGORIES:Free,Ticketed
ATTACH;FMTTYPE=image/png:https://lgbtqrolla.org/wp-content/uploads/2024/10/Trans_day_of_remembrance.png
END:VEVENT
END:VCALENDAR