BEGIN:VCALENDAR
VERSION:2.0
PRODID:-//LGBTQ+ Rolla - ECPv6.15.20//NONSGML v1.0//EN
CALSCALE:GREGORIAN
METHOD:PUBLISH
X-WR-CALNAME:LGBTQ+ Rolla
X-ORIGINAL-URL:https://lgbtqrolla.org
X-WR-CALDESC:Events for LGBTQ+ Rolla
REFRESH-INTERVAL;VALUE=DURATION:PT1H
X-Robots-Tag:noindex
X-PUBLISHED-TTL:PT1H
BEGIN:VTIMEZONE
TZID:America/Chicago
BEGIN:DAYLIGHT
TZOFFSETFROM:-0600
TZOFFSETTO:-0500
TZNAME:CDT
DTSTART:20230312T080000
END:DAYLIGHT
BEGIN:STANDARD
TZOFFSETFROM:-0500
TZOFFSETTO:-0600
TZNAME:CST
DTSTART:20231105T070000
END:STANDARD
BEGIN:DAYLIGHT
TZOFFSETFROM:-0600
TZOFFSETTO:-0500
TZNAME:CDT
DTSTART:20240310T080000
END:DAYLIGHT
BEGIN:STANDARD
TZOFFSETFROM:-0500
TZOFFSETTO:-0600
TZNAME:CST
DTSTART:20241103T070000
END:STANDARD
BEGIN:DAYLIGHT
TZOFFSETFROM:-0600
TZOFFSETTO:-0500
TZNAME:CDT
DTSTART:20250309T080000
END:DAYLIGHT
BEGIN:STANDARD
TZOFFSETFROM:-0500
TZOFFSETTO:-0600
TZNAME:CST
DTSTART:20251102T070000
END:STANDARD
END:VTIMEZONE
BEGIN:VEVENT
DTSTART;TZID=America/Chicago:20240907T203000
DTEND;TZID=America/Chicago:20240907T203000
DTSTAMP:20260424T105042
CREATED:20240802T213607Z
LAST-MODIFIED:20240802T214306Z
UID:10000007-1725741000-1725741000@lgbtqrolla.org
SUMMARY:LGBTQ+ Rolla Drag Show and Dance Party (18+)
DESCRIPTION:Join LGBTQ+ Rolla for a night of fabulous drag entertainment and optional dance party! Featuring performances by: Roxanna Rexia\, Veronika Versace\, Lisa de la Renta\, Bennifer Lopez\, and Artemis Grey. Saturday\, September 7th\, doors open at 8:30pm – Rolla VFW Post 2025 (15035 US-63\, Rolla MO).\n\nThis event is open to individuals age 18 and up\, please be prepared to show ID at the door. Anyone of age who is accepting and affirming of the LGBTQ+ community is welcome to attend!\n\nTickets are available for $10 on lgbtqrolla.org\, or at the door as supplies last.\n\nFood and drinks will be available for purchase – proceeds benefiting VFW Post 2025! Please consume responsibly – free soda and water for designated drivers.\n\nPlease smoke/vape outside.
URL:https://lgbtqrolla.org/event/lgbtq-rolla-drag-show-and-dance-party/
LOCATION:Rolla VFW\, 15035 US-63\, Rolla\, MO\, 65401\, United States
CATEGORIES:Ticketed
ATTACH;FMTTYPE=image/png:https://lgbtqrolla.org/wp-content/uploads/2024/08/Event-Banner-Drag-Show-and-Dance-Party-1920-x-1005-px.png
END:VEVENT
BEGIN:VEVENT
DTSTART;TZID=America/Chicago:20240929T140000
DTEND;TZID=America/Chicago:20240929T160000
DTSTAMP:20260424T105042
CREATED:20240826T195709Z
LAST-MODIFIED:20240826T195709Z
UID:10000008-1727618400-1727625600@lgbtqrolla.org
SUMMARY:LGBTQ+ Rolla Fairy Garden Tea Party
DESCRIPTION:Join LGBTQ+ Rolla for a free Fairy Garden Tea Party on Sunday\, September 29th from 2-4pm at Common Grounds Community Garden (near 111 S Pine Street\, Rolla MO) \n☕️Sip soothing tea\, delight in delicate tea sandwiches\, scones\, and treats\, relax and enjoy the beautiful garden 🌱 \n🧚‍♀️Listen to enchanting fairy storytelling\, by Hannah Bagnall 🧚‍♀️ \n👑 Enhance your festive garb by crafting a fairy crown or wand 🪄\, or build a tea cup fairy garden (free while supplies last) \n🦋Wings\, costumes\, etc. encouraged ✨ \nFairies and friends of all ages\, genders\, and orientations are invited – anyone who is affirming and supportive of the LGBTQ+ community is welcome \n(Inclement Weather Location – CrossRoads Auditorium: 708 N Main Street)
URL:https://lgbtqrolla.org/event/lgbtq-rolla-fairy-garden-tea-party/
LOCATION:Common Grounds Comunity Garden\, 111 S Pine Street\, Rolla\, MO\, 65401\, United States
CATEGORIES:Free
ATTACH;FMTTYPE=image/png:https://lgbtqrolla.org/wp-content/uploads/2024/08/Fairy-Garden-Tea-Party-Event-Banner-1920-x-1005-px.png
END:VEVENT
END:VCALENDAR