BEGIN:VCALENDAR
VERSION:2.0
PRODID:-//LGBTQ+ Rolla - ECPv6.15.20//NONSGML v1.0//EN
CALSCALE:GREGORIAN
METHOD:PUBLISH
X-ORIGINAL-URL:https://lgbtqrolla.org
X-WR-CALDESC:Events for LGBTQ+ Rolla
REFRESH-INTERVAL;VALUE=DURATION:PT1H
X-Robots-Tag:noindex
X-PUBLISHED-TTL:PT1H
BEGIN:VTIMEZONE
TZID:America/Chicago
BEGIN:DAYLIGHT
TZOFFSETFROM:-0600
TZOFFSETTO:-0500
TZNAME:CDT
DTSTART:20250309T080000
END:DAYLIGHT
BEGIN:STANDARD
TZOFFSETFROM:-0500
TZOFFSETTO:-0600
TZNAME:CST
DTSTART:20251102T070000
END:STANDARD
BEGIN:DAYLIGHT
TZOFFSETFROM:-0600
TZOFFSETTO:-0500
TZNAME:CDT
DTSTART:20260308T080000
END:DAYLIGHT
BEGIN:STANDARD
TZOFFSETFROM:-0500
TZOFFSETTO:-0600
TZNAME:CST
DTSTART:20261101T070000
END:STANDARD
BEGIN:DAYLIGHT
TZOFFSETFROM:-0600
TZOFFSETTO:-0500
TZNAME:CDT
DTSTART:20270314T080000
END:DAYLIGHT
BEGIN:STANDARD
TZOFFSETFROM:-0500
TZOFFSETTO:-0600
TZNAME:CST
DTSTART:20271107T070000
END:STANDARD
END:VTIMEZONE
BEGIN:VEVENT
DTSTART;TZID=America/Chicago:20260605T190000
DTEND;TZID=America/Chicago:20260605T230000
DTSTAMP:20260420T110729
CREATED:20251030T163755Z
LAST-MODIFIED:20251030T163755Z
UID:10000787-1780686000-1780700400@lgbtqrolla.org
SUMMARY:LGBTQ+ Rolla Friday Night Magic
DESCRIPTION:Join group members for Magic the Gathering every 1st and 3rd Friday of the month from 7pm-11pm. \nWe’ll be playing at the LGBTQ+ Rolla Center (514 C Ft Wyman Rd) – bring your own deck\, or a few spares will be available for use. Beginners welcome! \nFeel free to bring food or drink – but no alcohol permitted. \nThis is a free\, all ages activity (children need to have adult supervision at all times).
URL:https://lgbtqrolla.org/event/lgbtq-rolla-friday-night-magic/2026-06-05/
LOCATION:LGBTQ+ Rolla Center\, 514 Fort Wyman Rd Unit C\, Rolla\, MO\, 65401\, United States
ATTACH;FMTTYPE=image/png:https://lgbtqrolla.org/wp-content/uploads/2025/10/Friday-Night-Magic.png
END:VEVENT
END:VCALENDAR