BEGIN:VCALENDAR
VERSION:2.0
PRODID:-//LGBTQ+ Rolla - ECPv6.15.20//NONSGML v1.0//EN
CALSCALE:GREGORIAN
METHOD:PUBLISH
X-ORIGINAL-URL:https://lgbtqrolla.org
X-WR-CALDESC:Events for LGBTQ+ Rolla
REFRESH-INTERVAL;VALUE=DURATION:PT1H
X-Robots-Tag:noindex
X-PUBLISHED-TTL:PT1H
BEGIN:VTIMEZONE
TZID:America/Chicago
BEGIN:DAYLIGHT
TZOFFSETFROM:-0600
TZOFFSETTO:-0500
TZNAME:CDT
DTSTART:20250309T080000
END:DAYLIGHT
BEGIN:STANDARD
TZOFFSETFROM:-0500
TZOFFSETTO:-0600
TZNAME:CST
DTSTART:20251102T070000
END:STANDARD
BEGIN:DAYLIGHT
TZOFFSETFROM:-0600
TZOFFSETTO:-0500
TZNAME:CDT
DTSTART:20260308T080000
END:DAYLIGHT
BEGIN:STANDARD
TZOFFSETFROM:-0500
TZOFFSETTO:-0600
TZNAME:CST
DTSTART:20261101T070000
END:STANDARD
BEGIN:DAYLIGHT
TZOFFSETFROM:-0600
TZOFFSETTO:-0500
TZNAME:CDT
DTSTART:20270314T080000
END:DAYLIGHT
BEGIN:STANDARD
TZOFFSETFROM:-0500
TZOFFSETTO:-0600
TZNAME:CST
DTSTART:20271107T070000
END:STANDARD
END:VTIMEZONE
BEGIN:VEVENT
DTSTART;TZID=America/Chicago:20260214T130000
DTEND;TZID=America/Chicago:20260214T160000
DTSTAMP:20260420T123830
CREATED:20260113T001342Z
LAST-MODIFIED:20260214T174151Z
UID:10001338-1771074000-1771084800@lgbtqrolla.org
SUMMARY:❤️🎨 Hearts & Crafts: A Self-Care Night 🎨❤️
DESCRIPTION:❤️🎨 Hearts & Crafts: A Self-Care Night 🎨❤️ \nJoin us for a cozy\, creative afternoon centered on self-care\, connection\, and community! 💖 \n🗓 Friday\, February 14⏰ 1:00 – 4:00 PM📍 LGBTQ+ Rolla Center \n514C Fort Wyman Rd. Rolla\, MO 65401 \nAt Hearts & Crafts\, you’ll get to:✨ Make your own sugar scrub✨ Create bath bombs✨ Pour candles \n💝 Self-Care Bag Pricing:• $10 for one self-care bag• $15 for two self-care bags \n🎟 Purchase tickets here:👉 Click here to get your self-care bags \nLight snacks and refreshments will be available while you craft\, relax\, and connect with community. \n🎬 Love & Pride Documentary Watch Party — FREEAt 4:30 PM\, stay with us for a free screening of Love & Pride\, a powerful documentary highlighting the journey toward marriage equality and the strength of love and community. \nCome celebrate creativity\, self-care\, and love in all its forms. 🌈💕
URL:https://lgbtqrolla.org/event/%e2%9d%a4%ef%b8%8f%f0%9f%8e%a8-hearts-crafts-a-self-care-night-%f0%9f%8e%a8%e2%9d%a4%ef%b8%8f/
LOCATION:LGBTQ+ Rolla Center\, 514 Fort Wyman Rd Unit C\, Rolla\, MO\, 65401\, United States
CATEGORIES:Ticketed
ATTACH;FMTTYPE=image/jpeg:https://lgbtqrolla.org/wp-content/uploads/2025/12/Hearts__Crafts-scaled.jpeg
END:VEVENT
END:VCALENDAR