BEGIN:VCALENDAR
VERSION:2.0
PRODID:-//LGBTQ+ Rolla - ECPv6.15.20//NONSGML v1.0//EN
CALSCALE:GREGORIAN
METHOD:PUBLISH
X-WR-CALNAME:LGBTQ+ Rolla
X-ORIGINAL-URL:https://lgbtqrolla.org
X-WR-CALDESC:Events for LGBTQ+ Rolla
REFRESH-INTERVAL;VALUE=DURATION:PT1H
X-Robots-Tag:noindex
X-PUBLISHED-TTL:PT1H
BEGIN:VTIMEZONE
TZID:America/Chicago
BEGIN:DAYLIGHT
TZOFFSETFROM:-0600
TZOFFSETTO:-0500
TZNAME:CDT
DTSTART:20250309T080000
END:DAYLIGHT
BEGIN:STANDARD
TZOFFSETFROM:-0500
TZOFFSETTO:-0600
TZNAME:CST
DTSTART:20251102T070000
END:STANDARD
BEGIN:DAYLIGHT
TZOFFSETFROM:-0600
TZOFFSETTO:-0500
TZNAME:CDT
DTSTART:20260308T080000
END:DAYLIGHT
BEGIN:STANDARD
TZOFFSETFROM:-0500
TZOFFSETTO:-0600
TZNAME:CST
DTSTART:20261101T070000
END:STANDARD
BEGIN:DAYLIGHT
TZOFFSETFROM:-0600
TZOFFSETTO:-0500
TZNAME:CDT
DTSTART:20270314T080000
END:DAYLIGHT
BEGIN:STANDARD
TZOFFSETFROM:-0500
TZOFFSETTO:-0600
TZNAME:CST
DTSTART:20271107T070000
END:STANDARD
END:VTIMEZONE
BEGIN:VEVENT
DTSTART;TZID=America/Chicago:20260209T160000
DTEND;TZID=America/Chicago:20260209T180000
DTSTAMP:20260420T124520
CREATED:20260111T224328Z
LAST-MODIFIED:20260111T224358Z
UID:10001664-1770652800-1770660000@lgbtqrolla.org
SUMMARY: Karaoke Night at LGBTQ+ Rolla 
DESCRIPTION: Karaoke Night at LGBTQ+ Rolla  First\, Second & Third Monday of Every Month 4:00–6:00 PM LGBTQ+ Rolla Center514 C Ft. Wyman Rd\, Rolla\, MO\nGrab the mic and sing your heart out in a fun\, affirming space! Join LGBTQ+ Rolla for Karaoke Night\, where all voices\, all vibes\, and all identities are welcome.\n Whether you’re a shower singer or a karaoke superstar Come to perform\, cheer others on\, or just enjoy the music A judgment-free space centered on community and connection\nNo pressure — just music\, laughter\, and queer joy. Come as you are! 
URL:https://lgbtqrolla.org/event/karaoke-night-at-lgbtq-rolla/2026-02-09/
LOCATION:LGBTQ+ Rolla Center\, 514 Fort Wyman Rd Unit C\, Rolla\, MO\, 65401\, United States
ATTACH;FMTTYPE=image/png:https://lgbtqrolla.org/wp-content/uploads/2026/01/Karaoke-Night-1.png
END:VEVENT
END:VCALENDAR