BEGIN:VCALENDAR
VERSION:2.0
PRODID:-//LGBTQ+ Rolla - ECPv6.15.20//NONSGML v1.0//EN
CALSCALE:GREGORIAN
METHOD:PUBLISH
X-WR-CALNAME:LGBTQ+ Rolla
X-ORIGINAL-URL:https://lgbtqrolla.org
X-WR-CALDESC:Events for LGBTQ+ Rolla
REFRESH-INTERVAL;VALUE=DURATION:PT1H
X-Robots-Tag:noindex
X-PUBLISHED-TTL:PT1H
BEGIN:VTIMEZONE
TZID:America/Chicago
BEGIN:DAYLIGHT
TZOFFSETFROM:-0600
TZOFFSETTO:-0500
TZNAME:CDT
DTSTART:20240310T080000
END:DAYLIGHT
BEGIN:STANDARD
TZOFFSETFROM:-0500
TZOFFSETTO:-0600
TZNAME:CST
DTSTART:20241103T070000
END:STANDARD
BEGIN:DAYLIGHT
TZOFFSETFROM:-0600
TZOFFSETTO:-0500
TZNAME:CDT
DTSTART:20250309T080000
END:DAYLIGHT
BEGIN:STANDARD
TZOFFSETFROM:-0500
TZOFFSETTO:-0600
TZNAME:CST
DTSTART:20251102T070000
END:STANDARD
BEGIN:DAYLIGHT
TZOFFSETFROM:-0600
TZOFFSETTO:-0500
TZNAME:CDT
DTSTART:20260308T080000
END:DAYLIGHT
BEGIN:STANDARD
TZOFFSETFROM:-0500
TZOFFSETTO:-0600
TZNAME:CST
DTSTART:20261101T070000
END:STANDARD
END:VTIMEZONE
BEGIN:VEVENT
DTSTART;TZID=America/Chicago:20251021T170000
DTEND;TZID=America/Chicago:20251021T200000
DTSTAMP:20260422T064209
CREATED:20251001T203500Z
LAST-MODIFIED:20251001T203603Z
UID:10000659-1761066000-1761076800@lgbtqrolla.org
SUMMARY:LGBTQ+ Rolla Taco Tuesday Fundraiser at Pancheros
DESCRIPTION:Help support LGBTQ+ Rolla by enjoying some delicious food from Pancheros on Tuesday\, October 21st between 5-8pm 🌮 \n10% of ALL purchases (dine in\, delivery\, take out\, online orders\, and gift cards) will go towards the LGBTQ+ Rolla Center 🫶 \nBring some friends\, have food delivered\, or get a jump start on holiday shopping with gift cards! We appreciate your support 🏳️‍⚧️🏳️‍🌈 \n🗣️Please share and invite others!
URL:https://lgbtqrolla.org/event/lgbtq-rolla-taco-tuesday-fundraiser-at-pancheros/
LOCATION:Pancheros\, 1303 N Bishop\, Rolla\, MO\, 65401\, United States
ATTACH;FMTTYPE=image/jpeg:https://lgbtqrolla.org/wp-content/uploads/2025/10/Taco-Tuesday.jpg
END:VEVENT
BEGIN:VEVENT
DTSTART;TZID=America/Chicago:20251021T193000
DTEND;TZID=America/Chicago:20251021T213000
DTSTAMP:20260422T064209
CREATED:20250821T174619Z
LAST-MODIFIED:20250822T170541Z
UID:10000268-1761075000-1761082200@lgbtqrolla.org
SUMMARY:LGBTQ+ Rolla Game Night (ages 18+)
DESCRIPTION:Join LGBTQ+ Rolla for a monthly game night (ages 18+)! Recurring the Third Tuesday of each month from 7:30-9:30pm\, at 514 C Ft Wyman Rd (LGBTQ+ Rolla Center).\nGames will be available\, or you can bring your own favorite to play!\nFeel free to bring snacks or soft drinks to share (no alcohol permitted).
URL:https://lgbtqrolla.org/event/lgbtq-rolla-game-night-ages-18/2025-10-21/
LOCATION:LGBTQ+ Rolla Center\, 514 Fort Wyman Rd Unit C\, Rolla\, MO\, 65401\, United States
ATTACH;FMTTYPE=image/jpeg:https://lgbtqrolla.org/wp-content/uploads/2025/08/adult-game-night.jpg
END:VEVENT
BEGIN:VEVENT
DTSTART;TZID=America/Chicago:20251021T213000
DTEND;TZID=America/Chicago:20251021T223000
DTSTAMP:20260422T064209
CREATED:20250917T190718Z
LAST-MODIFIED:20250917T190718Z
UID:10000650-1761082200-1761085800@lgbtqrolla.org
SUMMARY:LGBTQ+ Rolla Dragula Titans Watch Party Hosted by Widow’s Pique (ages 18+)
DESCRIPTION:Join Widow’s Pique for a weekly watch party of Dragula Titans Season 2 – starting Tuesday\, October 7th\, from 9:30-10:30pm at the LGBTQ+ Rolla Center (514 C Ft Wyman Rd). \nFeel free to bring snacks or soft drinks to share (no alcohol permitted). \nFree event for anyone age 18+ who is affirming of the LGBTQ+ community
URL:https://lgbtqrolla.org/event/lgbtq-rolla-dragula-titans-watch-party-hosted-by-widows-pique-ages-18/2025-10-21/
LOCATION:LGBTQ+ Rolla Center\, 514 Fort Wyman Rd Unit C\, Rolla\, MO\, 65401\, United States
ATTACH;FMTTYPE=image/png:https://lgbtqrolla.org/wp-content/uploads/2025/09/Dragula-Watch-Party-3.png
END:VEVENT
END:VCALENDAR