BEGIN:VCALENDAR
VERSION:2.0
PRODID:-//LGBTQ+ Rolla - ECPv6.15.20//NONSGML v1.0//EN
CALSCALE:GREGORIAN
METHOD:PUBLISH
X-ORIGINAL-URL:https://lgbtqrolla.org
X-WR-CALDESC:Events for LGBTQ+ Rolla
REFRESH-INTERVAL;VALUE=DURATION:PT1H
X-Robots-Tag:noindex
X-PUBLISHED-TTL:PT1H
BEGIN:VTIMEZONE
TZID:America/Chicago
BEGIN:DAYLIGHT
TZOFFSETFROM:-0600
TZOFFSETTO:-0500
TZNAME:CDT
DTSTART:20240310T080000
END:DAYLIGHT
BEGIN:STANDARD
TZOFFSETFROM:-0500
TZOFFSETTO:-0600
TZNAME:CST
DTSTART:20241103T070000
END:STANDARD
BEGIN:DAYLIGHT
TZOFFSETFROM:-0600
TZOFFSETTO:-0500
TZNAME:CDT
DTSTART:20250309T080000
END:DAYLIGHT
BEGIN:STANDARD
TZOFFSETFROM:-0500
TZOFFSETTO:-0600
TZNAME:CST
DTSTART:20251102T070000
END:STANDARD
BEGIN:DAYLIGHT
TZOFFSETFROM:-0600
TZOFFSETTO:-0500
TZNAME:CDT
DTSTART:20260308T080000
END:DAYLIGHT
BEGIN:STANDARD
TZOFFSETFROM:-0500
TZOFFSETTO:-0600
TZNAME:CST
DTSTART:20261101T070000
END:STANDARD
END:VTIMEZONE
BEGIN:VEVENT
DTSTART;TZID=America/Chicago:20251019T160000
DTEND;TZID=America/Chicago:20251019T190000
DTSTAMP:20260422T064404
CREATED:20250918T173536Z
LAST-MODIFIED:20250922T202415Z
UID:10000647-1760889600-1760900400@lgbtqrolla.org
SUMMARY:LGBTQ+ Rolla Drag Bingo & Competition Presented by Student Union Board and Spectrum (18+)
DESCRIPTION:🎤 Drag Bingo + Fierce Drag Competition! 💃\nPresented by Student Union Board & Spectrum\nJoin us for an evening of laughter\, prizes\, and fabulous entertainment at Drag Bingo! Play bingo\, win fun prizes\, and enjoy a spectacular drag show—all in one event.\n📅 Sunday\, October 19\n⏰ 4–7 PM\n📍 St. Pat’s Ballroom\, Havener Center\n✨ Hosted by the fabulous UltraViolet\, with performances by:\nUltraViolet • Andrew Genius • Roxie Valentine • Sativa Raye Frost • Moxie Contin-Rose\n🎓 FREE for students with ID\n🎟 General Admission: $5 at the door (includes bingo cards\, snacks\, and prizes!)\n🔞 Ages 18+ only (valid ID required)\n💃 Drag-Off Competition! 💃\nStep into the spotlight in our Drag Competition! Show off your charisma\, uniqueness\, nerve\, and talent. Whether it’s your first time or you’re a seasoned performer\, this is your moment to shine. Sign up and compete for glory while the crowd cheers you on! Only 8 spaces available 🤩 Register to compete here: https://forms.gle/edfXSbRgmY8KEaBv6 \n👉 Don’t miss your chance to play bingo\, watch incredible performances\, and celebrate the community!
URL:https://lgbtqrolla.org/event/lgbtq-rolla-drag-bingo-competition-presented-by-student-union-board-and-spectrum/
LOCATION:Havener Center – St. Pat’s Ballroom\, 1346 N Bishop Ave\, Rolla\, MO\, 65401\, United States
ATTACH;FMTTYPE=image/jpeg:https://lgbtqrolla.org/wp-content/uploads/2025/09/Drag-Bingo-scaled.jpeg
END:VEVENT
END:VCALENDAR