BEGIN:VCALENDAR
VERSION:2.0
PRODID:-//LGBTQ+ Rolla - ECPv6.15.20//NONSGML v1.0//EN
CALSCALE:GREGORIAN
METHOD:PUBLISH
X-WR-CALNAME:LGBTQ+ Rolla
X-ORIGINAL-URL:https://lgbtqrolla.org
X-WR-CALDESC:Events for LGBTQ+ Rolla
REFRESH-INTERVAL;VALUE=DURATION:PT1H
X-Robots-Tag:noindex
X-PUBLISHED-TTL:PT1H
BEGIN:VTIMEZONE
TZID:America/Chicago
BEGIN:DAYLIGHT
TZOFFSETFROM:-0600
TZOFFSETTO:-0500
TZNAME:CDT
DTSTART:20240310T080000
END:DAYLIGHT
BEGIN:STANDARD
TZOFFSETFROM:-0500
TZOFFSETTO:-0600
TZNAME:CST
DTSTART:20241103T070000
END:STANDARD
BEGIN:DAYLIGHT
TZOFFSETFROM:-0600
TZOFFSETTO:-0500
TZNAME:CDT
DTSTART:20250309T080000
END:DAYLIGHT
BEGIN:STANDARD
TZOFFSETFROM:-0500
TZOFFSETTO:-0600
TZNAME:CST
DTSTART:20251102T070000
END:STANDARD
BEGIN:DAYLIGHT
TZOFFSETFROM:-0600
TZOFFSETTO:-0500
TZNAME:CDT
DTSTART:20260308T080000
END:DAYLIGHT
BEGIN:STANDARD
TZOFFSETFROM:-0500
TZOFFSETTO:-0600
TZNAME:CST
DTSTART:20261101T070000
END:STANDARD
END:VTIMEZONE
BEGIN:VEVENT
DTSTART;TZID=America/Chicago:20250921T130000
DTEND;TZID=America/Chicago:20250921T150000
DTSTAMP:20260422T080102
CREATED:20250902T165955Z
LAST-MODIFIED:20250902T165955Z
UID:10000583-1758459600-1758466800@lgbtqrolla.org
SUMMARY:LGBTQ+ Rolla Cosplay Workshop
DESCRIPTION:Welcome to the first cosplay workshop hosted at the LGBTQ+ Center here in Rolla (514 C Ft Wyman Road)! Join Wisteria’s Garden Cosplays/Zoe on Sunday 9/21 at 1pm for a presentation conveying what cosplay is\, how to start\, the benefits of gender expression within the art\, cost effectiveness and more\, followed by a Q & A and other wanted assistance for all your cosplay needs!\n\nAll skill levels welcome\, feel free to dress in cosplay or street clothes – you can consider bringing:\nFull cosplay\nPieces in progress\n Inspiration pictures\n Ideas to workshop\nSnacks or soft drinks (no alcohol permitted)\n\nAll ages event\, but conversation topics may be complex for some ages\, so parental discretion is advised! This event is free and open to the community\, but if you enjoy the events we host and want to see them more often\, feel free to consider joining our recurring donor page on Kofi!\n\nhttps://tinyurl.com/2z8bcpkz
URL:https://lgbtqrolla.org/event/lgbtq-rolla-cosplay-workshop/
LOCATION:LGBTQ+ Rolla Center\, 514 Fort Wyman Rd Unit C\, Rolla\, MO\, 65401\, United States
ATTACH;FMTTYPE=image/png:https://lgbtqrolla.org/wp-content/uploads/2025/09/Cosplay-Workshop-Event.png
END:VEVENT
END:VCALENDAR