BEGIN:VCALENDAR
VERSION:2.0
PRODID:-//LGBTQ+ Rolla - ECPv6.15.20//NONSGML v1.0//EN
CALSCALE:GREGORIAN
METHOD:PUBLISH
X-ORIGINAL-URL:https://lgbtqrolla.org
X-WR-CALDESC:Events for LGBTQ+ Rolla
REFRESH-INTERVAL;VALUE=DURATION:PT1H
X-Robots-Tag:noindex
X-PUBLISHED-TTL:PT1H
BEGIN:VTIMEZONE
TZID:America/Chicago
BEGIN:DAYLIGHT
TZOFFSETFROM:-0600
TZOFFSETTO:-0500
TZNAME:CDT
DTSTART:20240310T080000
END:DAYLIGHT
BEGIN:STANDARD
TZOFFSETFROM:-0500
TZOFFSETTO:-0600
TZNAME:CST
DTSTART:20241103T070000
END:STANDARD
BEGIN:DAYLIGHT
TZOFFSETFROM:-0600
TZOFFSETTO:-0500
TZNAME:CDT
DTSTART:20250309T080000
END:DAYLIGHT
BEGIN:STANDARD
TZOFFSETFROM:-0500
TZOFFSETTO:-0600
TZNAME:CST
DTSTART:20251102T070000
END:STANDARD
BEGIN:DAYLIGHT
TZOFFSETFROM:-0600
TZOFFSETTO:-0500
TZNAME:CDT
DTSTART:20260308T080000
END:DAYLIGHT
BEGIN:STANDARD
TZOFFSETFROM:-0500
TZOFFSETTO:-0600
TZNAME:CST
DTSTART:20261101T070000
END:STANDARD
END:VTIMEZONE
BEGIN:VEVENT
DTSTART;TZID=America/Chicago:20250916T110000
DTEND;TZID=America/Chicago:20250916T180000
DTSTAMP:20260422T080303
CREATED:20250909T171140Z
LAST-MODIFIED:20250909T171140Z
UID:10000644-1758020400-1758045600@lgbtqrolla.org
SUMMARY:LGBTQ+ Rolla National Voter Registration Day
DESCRIPTION:We’re proud to join #NationalVoterRegistrationDay on 9/16 as a Community Partner! 🎉 \nNeed to register to vote? Stop by the LGBTQ+ Rolla Center (514 C Ft Wyman Rd) 11am-6pm Tuesday 9/16 and we’ll provide paperwork and a special sticker! Plus we’ll have snacks available. \nAlready registered to vote? Feel free to come snag a poster or a QR code sticker encouraging others to register to vote. \nTogether\, we’re celebrating democracy by helping every eligible American get registered and #VoteReady
URL:https://lgbtqrolla.org/event/lgbtq-rolla-national-voter-registration-day/
LOCATION:LGBTQ+ Rolla Center\, 514 Fort Wyman Rd Unit C\, Rolla\, MO\, 65401\, United States
ATTACH;FMTTYPE=image/png:https://lgbtqrolla.org/wp-content/uploads/2025/09/National-Voter-Registration-Day-.png
END:VEVENT
BEGIN:VEVENT
DTSTART;TZID=America/Chicago:20250916T193000
DTEND;TZID=America/Chicago:20250916T213000
DTSTAMP:20260422T080303
CREATED:20250821T174619Z
LAST-MODIFIED:20250822T170541Z
UID:10000267-1758051000-1758058200@lgbtqrolla.org
SUMMARY:LGBTQ+ Rolla Game Night (ages 18+)
DESCRIPTION:Join LGBTQ+ Rolla for a monthly game night (ages 18+)! Recurring the Third Tuesday of each month from 7:30-9:30pm\, at 514 C Ft Wyman Rd (LGBTQ+ Rolla Center).\nGames will be available\, or you can bring your own favorite to play!\nFeel free to bring snacks or soft drinks to share (no alcohol permitted).
URL:https://lgbtqrolla.org/event/lgbtq-rolla-game-night-ages-18/2025-09-16/
LOCATION:LGBTQ+ Rolla Center\, 514 Fort Wyman Rd Unit C\, Rolla\, MO\, 65401\, United States
ATTACH;FMTTYPE=image/jpeg:https://lgbtqrolla.org/wp-content/uploads/2025/08/adult-game-night.jpg
END:VEVENT
END:VCALENDAR