BEGIN:VCALENDAR
VERSION:2.0
PRODID:-//LGBTQ+ Rolla - ECPv6.15.20//NONSGML v1.0//EN
CALSCALE:GREGORIAN
METHOD:PUBLISH
X-WR-CALNAME:LGBTQ+ Rolla
X-ORIGINAL-URL:https://lgbtqrolla.org
X-WR-CALDESC:Events for LGBTQ+ Rolla
REFRESH-INTERVAL;VALUE=DURATION:PT1H
X-Robots-Tag:noindex
X-PUBLISHED-TTL:PT1H
BEGIN:VTIMEZONE
TZID:America/Chicago
BEGIN:DAYLIGHT
TZOFFSETFROM:-0600
TZOFFSETTO:-0500
TZNAME:CDT
DTSTART:20240310T080000
END:DAYLIGHT
BEGIN:STANDARD
TZOFFSETFROM:-0500
TZOFFSETTO:-0600
TZNAME:CST
DTSTART:20241103T070000
END:STANDARD
BEGIN:DAYLIGHT
TZOFFSETFROM:-0600
TZOFFSETTO:-0500
TZNAME:CDT
DTSTART:20250309T080000
END:DAYLIGHT
BEGIN:STANDARD
TZOFFSETFROM:-0500
TZOFFSETTO:-0600
TZNAME:CST
DTSTART:20251102T070000
END:STANDARD
BEGIN:DAYLIGHT
TZOFFSETFROM:-0600
TZOFFSETTO:-0500
TZNAME:CDT
DTSTART:20260308T080000
END:DAYLIGHT
BEGIN:STANDARD
TZOFFSETFROM:-0500
TZOFFSETTO:-0600
TZNAME:CST
DTSTART:20261101T070000
END:STANDARD
END:VTIMEZONE
BEGIN:VEVENT
DTSTART;TZID=America/Chicago:20250726T183000
DTEND;TZID=America/Chicago:20250726T203000
DTSTAMP:20260420T155633
CREATED:20250621T025221Z
LAST-MODIFIED:20250621T025610Z
UID:10000024-1753554600-1753561800@lgbtqrolla.org
SUMMARY:LGBTQ+ Rolla Pool Party
DESCRIPTION:🌈💦 LGBTQ+ Rolla Pool Party! 💦🌈📅 Saturday\, July 26th\, 2025🕡 6:30 – 8:30 PM📍 Tiger Shark Water Park\, St. James\, MO💵 Suggested Donation: $5 \nWe’re taking over the whole water park — just for us! 🏳️‍🌈 \nThis is an ALL-AGES event\, so bring your friends\, family\, and anyone who loves a good time! Whether you’re diving in or just floating along\, this is a safe and affirming space for everyone to enjoy. \n✨ Here’s what’s waiting for you:✅ Water slide✅ Deep end + diving board✅ Children’s area✅ Lifeguard on duty✅ Outside food and soft drinks are welcome🚫 No alcohol permitted💃 Wear whatever makes you happy & comfortable — swimwear or athletic-type polyester material. \nAll LGBTQ+ folks\, friends\, family\, and allies are welcome. 🌟 \nLet’s make memories\, share laughs\, and build community under the stars (and the splash)!
URL:https://lgbtqrolla.org/event/lgbtq-rolla-pool-party-2/
LOCATION:Tiger Shark Water Park\, 500 S Bourbeuse St\, St James\, MO\, 65559\, United States
ATTACH;FMTTYPE=image/jpeg:https://lgbtqrolla.org/wp-content/uploads/2025/06/IMG_6128-scaled.jpeg
END:VEVENT
END:VCALENDAR