BEGIN:VCALENDAR
VERSION:2.0
PRODID:-//LGBTQ+ Rolla - ECPv6.15.20//NONSGML v1.0//EN
CALSCALE:GREGORIAN
METHOD:PUBLISH
X-ORIGINAL-URL:https://lgbtqrolla.org
X-WR-CALDESC:Events for LGBTQ+ Rolla
REFRESH-INTERVAL;VALUE=DURATION:PT1H
X-Robots-Tag:noindex
X-PUBLISHED-TTL:PT1H
BEGIN:VTIMEZONE
TZID:America/Chicago
BEGIN:DAYLIGHT
TZOFFSETFROM:-0600
TZOFFSETTO:-0500
TZNAME:CDT
DTSTART:20240310T080000
END:DAYLIGHT
BEGIN:STANDARD
TZOFFSETFROM:-0500
TZOFFSETTO:-0600
TZNAME:CST
DTSTART:20241103T070000
END:STANDARD
BEGIN:DAYLIGHT
TZOFFSETFROM:-0600
TZOFFSETTO:-0500
TZNAME:CDT
DTSTART:20250309T080000
END:DAYLIGHT
BEGIN:STANDARD
TZOFFSETFROM:-0500
TZOFFSETTO:-0600
TZNAME:CST
DTSTART:20251102T070000
END:STANDARD
BEGIN:DAYLIGHT
TZOFFSETFROM:-0600
TZOFFSETTO:-0500
TZNAME:CDT
DTSTART:20260308T080000
END:DAYLIGHT
BEGIN:STANDARD
TZOFFSETFROM:-0500
TZOFFSETTO:-0600
TZNAME:CST
DTSTART:20261101T070000
END:STANDARD
END:VTIMEZONE
BEGIN:VEVENT
DTSTART;TZID=America/Chicago:20250420T140000
DTEND;TZID=America/Chicago:20250420T150000
DTSTAMP:20260420T082744
CREATED:20250330T163448Z
LAST-MODIFIED:20250330T163448Z
UID:10000020-1745157600-1745161200@lgbtqrolla.org
SUMMARY:LGBTQ+ Rolla Egg Hunt
DESCRIPTION:Join LGBTQ+ Rolla for a free\, all ages Egg Hunt Sunday\, April 20th! Look for candy filled eggs among the beautiful spring greenery in Common Grounds Community Garden (111 S Pine Street\, Rolla MO)📍 \n🍬🥚🍬 This event will be from 2-3pm – with the egg hunt starting shortly after 2pm. We will have younger participates start off the hunt\, but all ages (including adults) are encouraged to look for eggs and enjoy the garden 🌱 \n🧺Feel free to bring a basket or bag to collect eggs\, as well as a chair or blanket for relaxing. You are also welcome to bring personal food/soft drinks\, or snacks to share 💧🥤 \n🏃There is no path/walkway – so please be prepared to walk on grass and slightly uneven terrain – but the area is mostly flat. \nPlease note – there is no bathroom access at the garden. \n🅿️ If possible\, please park on First Street and walk down to the garden – leaving room on Pine Street for people to drop off/turn around\, and parking for those with small children/accessibility needs. \nPlease share and invite others! Anyone who is affirming of the LGBTQ+ community is welcome to attend 🏳️‍⚧️🏳️‍🌈 \n***In case of inclement weather ⛈️- this event will be held indoors\, at CrossRoads (708 N Main Street)***
URL:https://lgbtqrolla.org/event/lgbtq-rolla-egg-hunt/
LOCATION:Common Grounds Comunity Garden\, 111 S Pine Street\, Rolla\, MO\, 65401\, United States
ATTACH;FMTTYPE=image/png:https://lgbtqrolla.org/wp-content/uploads/2025/03/Egg-Hunt-Banner-1920-x-1005-px.png
END:VEVENT
END:VCALENDAR