BEGIN:VCALENDAR
VERSION:2.0
PRODID:-//LGBTQ+ Rolla - ECPv6.15.20//NONSGML v1.0//EN
CALSCALE:GREGORIAN
METHOD:PUBLISH
X-ORIGINAL-URL:https://lgbtqrolla.org
X-WR-CALDESC:Events for LGBTQ+ Rolla
REFRESH-INTERVAL;VALUE=DURATION:PT1H
X-Robots-Tag:noindex
X-PUBLISHED-TTL:PT1H
BEGIN:VTIMEZONE
TZID:America/Chicago
BEGIN:DAYLIGHT
TZOFFSETFROM:-0600
TZOFFSETTO:-0500
TZNAME:CDT
DTSTART:20240310T080000
END:DAYLIGHT
BEGIN:STANDARD
TZOFFSETFROM:-0500
TZOFFSETTO:-0600
TZNAME:CST
DTSTART:20241103T070000
END:STANDARD
BEGIN:DAYLIGHT
TZOFFSETFROM:-0600
TZOFFSETTO:-0500
TZNAME:CDT
DTSTART:20250309T080000
END:DAYLIGHT
BEGIN:STANDARD
TZOFFSETFROM:-0500
TZOFFSETTO:-0600
TZNAME:CST
DTSTART:20251102T070000
END:STANDARD
BEGIN:DAYLIGHT
TZOFFSETFROM:-0600
TZOFFSETTO:-0500
TZNAME:CDT
DTSTART:20260308T080000
END:DAYLIGHT
BEGIN:STANDARD
TZOFFSETFROM:-0500
TZOFFSETTO:-0600
TZNAME:CST
DTSTART:20261101T070000
END:STANDARD
END:VTIMEZONE
BEGIN:VEVENT
DTSTART;TZID=America/Chicago:20250419T190000
DTEND;TZID=America/Chicago:20250419T210000
DTSTAMP:20260420T082752
CREATED:20250319T154935Z
LAST-MODIFIED:20250329T132606Z
UID:10000018-1745089200-1745096400@lgbtqrolla.org
SUMMARY:LGBTQ+ Rolla Drag and Desserts Presented by Spectrum and Society of Women Engineers
DESCRIPTION:Join LGBTQ+ Rolla\, Spectrum\, and the Society of Women Engineers (SWE) as they present Drag and Desserts! Saturday\, April 19th from 7pm-9pm – in the St. Pat’s Ballroom of the Havener Center on campus at Missouri S&T (located at 1346 N Bishop Ave\, Rolla\, MO 65409).\nPerformances by UltraViolet\, Sativa Raye Frost\, Andrew Genius\, Karma Valentino\, and Karma T Cassidy \nThis event is open to campus and community members and is all ages (parental discretion suggested). There is an entry fee – tickets may be purchased in advance at lgbtqrolla.org/events/ or at the door as availability allows. Tickets include light dessert refreshments as supplies last. \nParking available for in campus lots for free\, or for a fee in parking garage.
URL:https://lgbtqrolla.org/event/lgbtq-rolla-drag-and-desserts/
LOCATION:Havener Center – St. Pat’s Ballroom\, 1346 N Bishop Ave\, Rolla\, MO\, 65401\, United States
CATEGORIES:Ticketed
ATTACH;FMTTYPE=image/png:https://lgbtqrolla.org/wp-content/uploads/2025/03/4-19-Drag-Show-and-Dessert-Event-Banner.png
END:VEVENT
END:VCALENDAR