BEGIN:VCALENDAR
VERSION:2.0
PRODID:-//LGBTQ+ Rolla - ECPv6.15.20//NONSGML v1.0//EN
CALSCALE:GREGORIAN
METHOD:PUBLISH
X-ORIGINAL-URL:https://lgbtqrolla.org
X-WR-CALDESC:Events for LGBTQ+ Rolla
REFRESH-INTERVAL;VALUE=DURATION:PT1H
X-Robots-Tag:noindex
X-PUBLISHED-TTL:PT1H
BEGIN:VTIMEZONE
TZID:America/Chicago
BEGIN:DAYLIGHT
TZOFFSETFROM:-0600
TZOFFSETTO:-0500
TZNAME:CDT
DTSTART:20230312T080000
END:DAYLIGHT
BEGIN:STANDARD
TZOFFSETFROM:-0500
TZOFFSETTO:-0600
TZNAME:CST
DTSTART:20231105T070000
END:STANDARD
BEGIN:DAYLIGHT
TZOFFSETFROM:-0600
TZOFFSETTO:-0500
TZNAME:CDT
DTSTART:20240310T080000
END:DAYLIGHT
BEGIN:STANDARD
TZOFFSETFROM:-0500
TZOFFSETTO:-0600
TZNAME:CST
DTSTART:20241103T070000
END:STANDARD
BEGIN:DAYLIGHT
TZOFFSETFROM:-0600
TZOFFSETTO:-0500
TZNAME:CDT
DTSTART:20250309T080000
END:DAYLIGHT
BEGIN:STANDARD
TZOFFSETFROM:-0500
TZOFFSETTO:-0600
TZNAME:CST
DTSTART:20251102T070000
END:STANDARD
END:VTIMEZONE
BEGIN:VEVENT
DTSTART;TZID=America/Chicago:20240626T170000
DTEND;TZID=America/Chicago:20240626T210000
DTSTAMP:20260424T155131
CREATED:20240607T203652Z
LAST-MODIFIED:20240615T210949Z
UID:10000004-1719421200-1719435600@lgbtqrolla.org
SUMMARY:LGBTQ+ Rolla Pints for a Purpose - Rolla Public House
DESCRIPTION:Come have a pint or a pizza with us on Wednesday\, June 26 5-9pm. Public House Rolla donates $1 from every pint sold to our nonprofit. There are other opportunities to donate\, too. We will have games\, a silent auction\, and a good time!
URL:https://lgbtqrolla.org/event/lgbtq-rolla-pints-for-a-purpose-rolla-public-house/
LOCATION:Rolla Public House\, 600 N Rolla St # C\, Rolla\, MO\, 65401\, United States
ATTACH;FMTTYPE=image/png:https://lgbtqrolla.org/wp-content/uploads/2024/06/2024-Pints-for-a-Purpose-Facebook-Banner2.png
END:VEVENT
END:VCALENDAR