BEGIN:VCALENDAR
VERSION:2.0
PRODID:-//LGBTQ+ Rolla - ECPv6.15.20//NONSGML v1.0//EN
CALSCALE:GREGORIAN
METHOD:PUBLISH
X-WR-CALNAME:LGBTQ+ Rolla
X-ORIGINAL-URL:https://lgbtqrolla.org
X-WR-CALDESC:Events for LGBTQ+ Rolla
REFRESH-INTERVAL;VALUE=DURATION:PT1H
X-Robots-Tag:noindex
X-PUBLISHED-TTL:PT1H
BEGIN:VTIMEZONE
TZID:America/Chicago
BEGIN:DAYLIGHT
TZOFFSETFROM:-0600
TZOFFSETTO:-0500
TZNAME:CDT
DTSTART:20230312T080000
END:DAYLIGHT
BEGIN:STANDARD
TZOFFSETFROM:-0500
TZOFFSETTO:-0600
TZNAME:CST
DTSTART:20231105T070000
END:STANDARD
BEGIN:DAYLIGHT
TZOFFSETFROM:-0600
TZOFFSETTO:-0500
TZNAME:CDT
DTSTART:20240310T080000
END:DAYLIGHT
BEGIN:STANDARD
TZOFFSETFROM:-0500
TZOFFSETTO:-0600
TZNAME:CST
DTSTART:20241103T070000
END:STANDARD
BEGIN:DAYLIGHT
TZOFFSETFROM:-0600
TZOFFSETTO:-0500
TZNAME:CDT
DTSTART:20250309T080000
END:DAYLIGHT
BEGIN:STANDARD
TZOFFSETFROM:-0500
TZOFFSETTO:-0600
TZNAME:CST
DTSTART:20251102T070000
END:STANDARD
END:VTIMEZONE
BEGIN:VEVENT
DTSTART;TZID=America/Chicago:20240608T170000
DTEND;TZID=America/Chicago:20240608T200000
DTSTAMP:20260424T170946
CREATED:20240506T160159Z
LAST-MODIFIED:20240518T181314Z
UID:10000003-1717866000-1717876800@lgbtqrolla.org
SUMMARY:LGBTQ+ Rolla Pride Celebration
DESCRIPTION:Join LGBTQ+ Rolla for our annual Pride celebration -Saturday\, June 8th from 5-8pm! \nThis event is free and open to all LGBTQ+ individuals and allies – you do not need to be a Rolla resident to attend\, and it is open to all ages. Come celebrate and affirm LGBTQ+ Pride!\n\nWe will have an educational guest speaker\, entertainment\, photo booth\, food trucks\, pride t-shirt tie-dying\, face painting\, crafts\, affirming freebies\, and community booths.\n\nWant to help volunteer? Complete this form: https://forms.gle/WgQvYwpTVncdfSam8
URL:https://lgbtqrolla.org/event/lgbtq-rolla-pride-celebration/
LOCATION:Rolla Bandshell\, 901 N Elm Street\, Rolla\, MO\, 65401\, United States
CATEGORIES:Free
ATTACH;FMTTYPE=image/png:https://lgbtqrolla.org/wp-content/uploads/2024/05/Pride-2024-Event-Banner-1920-x-1005-px.png
END:VEVENT
END:VCALENDAR